BEGIN:VCALENDAR
VERSION:2.0
PRODID:-//THE VILLAGE OF MOGADORE - ECPv6.15.11//NONSGML v1.0//EN
CALSCALE:GREGORIAN
METHOD:PUBLISH
X-WR-CALNAME:THE VILLAGE OF MOGADORE
X-ORIGINAL-URL:https://mogadorevillage.org
X-WR-CALDESC:Events for THE VILLAGE OF MOGADORE
REFRESH-INTERVAL;VALUE=DURATION:PT1H
X-Robots-Tag:noindex
X-PUBLISHED-TTL:PT1H
BEGIN:VTIMEZONE
TZID:America/New_York
BEGIN:DAYLIGHT
TZOFFSETFROM:-0500
TZOFFSETTO:-0400
TZNAME:EDT
DTSTART:20240310T070000
END:DAYLIGHT
BEGIN:STANDARD
TZOFFSETFROM:-0400
TZOFFSETTO:-0500
TZNAME:EST
DTSTART:20241103T060000
END:STANDARD
BEGIN:DAYLIGHT
TZOFFSETFROM:-0500
TZOFFSETTO:-0400
TZNAME:EDT
DTSTART:20250309T070000
END:DAYLIGHT
BEGIN:STANDARD
TZOFFSETFROM:-0400
TZOFFSETTO:-0500
TZNAME:EST
DTSTART:20251102T060000
END:STANDARD
BEGIN:DAYLIGHT
TZOFFSETFROM:-0500
TZOFFSETTO:-0400
TZNAME:EDT
DTSTART:20260308T070000
END:DAYLIGHT
BEGIN:STANDARD
TZOFFSETFROM:-0400
TZOFFSETTO:-0500
TZNAME:EST
DTSTART:20261101T060000
END:STANDARD
END:VTIMEZONE
BEGIN:VEVENT
DTSTART;TZID=America/New_York:20251011T090000
DTEND;TZID=America/New_York:20251011T150000
DTSTAMP:20260425T203333
CREATED:20251008T151647Z
LAST-MODIFIED:20251008T151647Z
UID:6468-1760173200-1760194800@mogadorevillage.org
SUMMARY:HOLIDAY BAZAAR
DESCRIPTION:
URL:https://mogadorevillage.org/event/holiday-bazaar/
LOCATION:Mogadore High School\, 130 S. Cleveland Avenue\, Mogadore\, OH\, 44260\, United States
END:VEVENT
END:VCALENDAR