BEGIN:VCALENDAR
VERSION:2.0
PRODID:-//THE VILLAGE OF MOGADORE - ECPv6.15.11//NONSGML v1.0//EN
CALSCALE:GREGORIAN
METHOD:PUBLISH
X-ORIGINAL-URL:https://mogadorevillage.org
X-WR-CALDESC:Events for THE VILLAGE OF MOGADORE
REFRESH-INTERVAL;VALUE=DURATION:PT1H
X-Robots-Tag:noindex
X-PUBLISHED-TTL:PT1H
BEGIN:VTIMEZONE
TZID:America/New_York
BEGIN:DAYLIGHT
TZOFFSETFROM:-0500
TZOFFSETTO:-0400
TZNAME:EDT
DTSTART:20220313T070000
END:DAYLIGHT
BEGIN:STANDARD
TZOFFSETFROM:-0400
TZOFFSETTO:-0500
TZNAME:EST
DTSTART:20221106T060000
END:STANDARD
BEGIN:DAYLIGHT
TZOFFSETFROM:-0500
TZOFFSETTO:-0400
TZNAME:EDT
DTSTART:20230312T070000
END:DAYLIGHT
BEGIN:STANDARD
TZOFFSETFROM:-0400
TZOFFSETTO:-0500
TZNAME:EST
DTSTART:20231105T060000
END:STANDARD
BEGIN:DAYLIGHT
TZOFFSETFROM:-0500
TZOFFSETTO:-0400
TZNAME:EDT
DTSTART:20240310T070000
END:DAYLIGHT
BEGIN:STANDARD
TZOFFSETFROM:-0400
TZOFFSETTO:-0500
TZNAME:EST
DTSTART:20241103T060000
END:STANDARD
END:VTIMEZONE
BEGIN:VEVENT
DTSTART;TZID=America/New_York:20231023T190000
DTEND;TZID=America/New_York:20231023T193000
DTSTAMP:20260421T105255
CREATED:20231019T203104Z
LAST-MODIFIED:20231019T203202Z
UID:4790-1698087600-1698089400@mogadorevillage.org
SUMMARY:Zoning Board of Appeals Meeting
DESCRIPTION:ZBA MEETING \nNew Business \nCode Section: 152.020 Accessory Structures. \nRequest for accessory structure (detached garage) to be 50% of the rear yard and 1\,500 square feet. \nOwner: Christie Wunder \nProperty: 3794 Orchard Street \nMogadore\, Ohio 44260
URL:https://mogadorevillage.org/event/zoning-board-of-appeals-meeting/
LOCATION:Mogadore Municipal Building\, 135 S. Cleveland Ave\, Mogadore\, OH\, 44260\, United States
CATEGORIES:Zoning
END:VEVENT
END:VCALENDAR