BEGIN:VCALENDAR
VERSION:2.0
PRODID:-//THE VILLAGE OF MOGADORE - ECPv6.15.11//NONSGML v1.0//EN
CALSCALE:GREGORIAN
METHOD:PUBLISH
X-WR-CALNAME:THE VILLAGE OF MOGADORE
X-ORIGINAL-URL:https://mogadorevillage.org
X-WR-CALDESC:Events for THE VILLAGE OF MOGADORE
REFRESH-INTERVAL;VALUE=DURATION:PT1H
X-Robots-Tag:noindex
X-PUBLISHED-TTL:PT1H
BEGIN:VTIMEZONE
TZID:America/New_York
BEGIN:DAYLIGHT
TZOFFSETFROM:-0500
TZOFFSETTO:-0400
TZNAME:EDT
DTSTART:20240310T070000
END:DAYLIGHT
BEGIN:STANDARD
TZOFFSETFROM:-0400
TZOFFSETTO:-0500
TZNAME:EST
DTSTART:20241103T060000
END:STANDARD
BEGIN:DAYLIGHT
TZOFFSETFROM:-0500
TZOFFSETTO:-0400
TZNAME:EDT
DTSTART:20250309T070000
END:DAYLIGHT
BEGIN:STANDARD
TZOFFSETFROM:-0400
TZOFFSETTO:-0500
TZNAME:EST
DTSTART:20251102T060000
END:STANDARD
BEGIN:DAYLIGHT
TZOFFSETFROM:-0500
TZOFFSETTO:-0400
TZNAME:EDT
DTSTART:20260308T070000
END:DAYLIGHT
BEGIN:STANDARD
TZOFFSETFROM:-0400
TZOFFSETTO:-0500
TZNAME:EST
DTSTART:20261101T060000
END:STANDARD
END:VTIMEZONE
BEGIN:VEVENT
DTSTART;TZID=America/New_York:20250717T180000
DTEND;TZID=America/New_York:20250719T230000
DTSTAMP:20260425T235619
CREATED:20250108T161809Z
LAST-MODIFIED:20250530T162558Z
UID:5898-1752775200-1752966000@mogadorevillage.org
SUMMARY:2025 Mogadore Summer Festival
DESCRIPTION:2025 Mogadore Summer Festival \nWhen: July 17th\, 18th\, 19th \nWhere: Lions Park \n194 Hale Avenue Mogadore\, Ohio 44260
URL:https://mogadorevillage.org/event/2025-mogadore-summer-festival/
LOCATION:Lions Park\, 158 Hale St\, Mogadore\, OH\, 44260\, United States
END:VEVENT
END:VCALENDAR